BEGIN:VCALENDAR
VERSION:2.0
PRODID:-//Colorado Wireless Association - ECPv6.15.20//NONSGML v1.0//EN
CALSCALE:GREGORIAN
METHOD:PUBLISH
X-WR-CALNAME:Colorado Wireless Association
X-ORIGINAL-URL:https://co-wa.org
X-WR-CALDESC:Events for Colorado Wireless Association
REFRESH-INTERVAL;VALUE=DURATION:PT1H
X-Robots-Tag:noindex
X-PUBLISHED-TTL:PT1H
BEGIN:VTIMEZONE
TZID:America/Denver
BEGIN:DAYLIGHT
TZOFFSETFROM:-0700
TZOFFSETTO:-0600
TZNAME:MDT
DTSTART:20250309T090000
END:DAYLIGHT
BEGIN:STANDARD
TZOFFSETFROM:-0600
TZOFFSETTO:-0700
TZNAME:MST
DTSTART:20251102T080000
END:STANDARD
BEGIN:DAYLIGHT
TZOFFSETFROM:-0700
TZOFFSETTO:-0600
TZNAME:MDT
DTSTART:20260308T090000
END:DAYLIGHT
BEGIN:STANDARD
TZOFFSETFROM:-0600
TZOFFSETTO:-0700
TZNAME:MST
DTSTART:20261101T080000
END:STANDARD
BEGIN:DAYLIGHT
TZOFFSETFROM:-0700
TZOFFSETTO:-0600
TZNAME:MDT
DTSTART:20270314T090000
END:DAYLIGHT
BEGIN:STANDARD
TZOFFSETFROM:-0600
TZOFFSETTO:-0700
TZNAME:MST
DTSTART:20271107T080000
END:STANDARD
END:VTIMEZONE
BEGIN:VEVENT
DTSTART;TZID=America/Denver:20260422T130000
DTEND;TZID=America/Denver:20260422T170000
DTSTAMP:20260421T033604
CREATED:20251215T220406Z
LAST-MODIFIED:20260206T054534Z
UID:10000150-1776862800-1776877200@co-wa.org
SUMMARY:COWA-Con Education Event
DESCRIPTION:COWA’s educational conference providing insight and education on how telecom and broadband is making connections in Colorado and beyond.\n\n\n\nCOWA-Con is a half-day event where attendees can learn about advancements in the industry and how those might impact the way they perform their jobs. It’s an opportunity to hear from experts\, learn about industry trends\, and get updated on the latest and greatest technologies. And it’s happening at Meow Wolf\, one of Denver’s most iconic and unique venues!\n\n1:00 PM- 1:30 PM: Registration\, check-in and networking\n1:30 PM- 5:00 PM: Speaker sessions\n5:00 PM-6:30 PM Catchup with colleagues during the networking happy hour\n\nALL FOR JUST $50! \nWe’ve also got numerous sponsorship opportunities if you’d like to have your company’s brand as part of this great event.
URL:https://co-wa.org/event/cowa-con-education-event/
LOCATION:Meow Wolf\, 1338 1st St.\, Denver\, CO\, 80204\, United States
CATEGORIES:COWA Events
ATTACH;FMTTYPE=image/png:https://co-wa.org/wp-content/uploads/2026/01/2025-COWA-Con-Banner-compressed.png
END:VEVENT
BEGIN:VEVENT
DTSTART;TZID=America/Denver:20260422T170000
DTEND;TZID=America/Denver:20260422T190000
DTSTAMP:20260421T033604
CREATED:20251229T231924Z
LAST-MODIFIED:20260206T054529Z
UID:10000160-1776877200-1776884400@co-wa.org
SUMMARY:COWA-Con Post Event Happy Hour
DESCRIPTION:COWA’s educational conference providing insight and education on how telecom and broadband is making connections in Colorado and beyond.\n\n\n\nCOWA-Con is a half-day event where attendees can learn about advancements in the industry and how those might impact the way they perform their jobs. It’s an opportunity to hear from experts\, learn about industry trends\, and get updated on the latest and greatest technologies. And it’s happening at Meow Wolf\, one of Denver’s most iconic and unique venues!\n\n1:00 PM- 1:30 PM: Registration\, check-in and networking\n1:30 PM- 5:00 PM: Speaker sessions\n5:00 PM-6:30 PM Catchup with colleagues during the networking happy hour\n\nALL FOR JUST $50! \nWe’ve also got numerous sponsorship opportunities if you’d like to have your company’s brand as part of this great event.
URL:https://co-wa.org/event/cowa-con-post-event-happy-hour/
LOCATION:Meow Wolf\, 1338 1st St.\, Denver\, CO\, 80204\, United States
CATEGORIES:COWA Events
ATTACH;FMTTYPE=image/png:https://co-wa.org/wp-content/uploads/2026/01/2025-COWA-Con-Banner-compressed.png
END:VEVENT
BEGIN:VEVENT
DTSTART;TZID=America/Denver:20260520T163000
DTEND;TZID=America/Denver:20260520T183000
DTSTAMP:20260421T033604
CREATED:20251218T044806Z
LAST-MODIFIED:20260403T174843Z
UID:10000153-1779294600-1779301800@co-wa.org
SUMMARY:Networking Happy Hour
DESCRIPTION:
URL:https://co-wa.org/event/charity-event-and-happy-hour/
LOCATION:Brothers Bar & Grill\, 7407 Park Meadows Dr\, Lone Tree\, CO 80129\, USA\, United States
CATEGORIES:COWA Events
GEO:39.620895;-104.884562
END:VEVENT
BEGIN:VEVENT
DTSTART;TZID=America/Denver:20260624T120000
DTEND;TZID=America/Denver:20260624T170000
DTSTAMP:20260421T033604
CREATED:20251218T044831Z
LAST-MODIFIED:20251229T232544Z
UID:10000154-1782302400-1782320400@co-wa.org
SUMMARY:Member Appreciation Rockies vs Red Sox
DESCRIPTION:
URL:https://co-wa.org/event/member-appreciation-rockies-vs-red-sox/
LOCATION:Coors Field\, 2001 Blake St.\, Denver\, CO\, 80205\, United States
CATEGORIES:COWA Events
END:VEVENT
BEGIN:VEVENT
DTSTART;TZID=America/Denver:20260715T163000
DTEND;TZID=America/Denver:20260715T183000
DTSTAMP:20260421T033604
CREATED:20251218T044910Z
LAST-MODIFIED:20260326T003103Z
UID:10000155-1784133000-1784140200@co-wa.org
SUMMARY:Golf Networking Happy Hour
DESCRIPTION:
URL:https://co-wa.org/event/golf-networking-happy-hour-and-tournament/
LOCATION:Viewhouse Centennial\, 7101 S Clinton St\, Centennial\, CO\, 80112\, United States
CATEGORIES:COWA Events
END:VEVENT
BEGIN:VEVENT
DTSTART;TZID=America/Denver:20260716T080000
DTEND;TZID=America/Denver:20260716T170000
DTSTAMP:20260421T033604
CREATED:20251229T232807Z
LAST-MODIFIED:20260326T002815Z
UID:10000161-1784188800-1784221200@co-wa.org
SUMMARY:Golf Tournament
DESCRIPTION:
URL:https://co-wa.org/event/golf-tournament/
LOCATION:Arrowhead Golf Course\, 10850 Sundown Trl\, Littleton\, CO\, United States
CATEGORIES:COWA Events
GEO:39.453095;-105.07825
X-APPLE-STRUCTURED-LOCATION;VALUE=URI;X-ADDRESS=Arrowhead Golf Course 10850 Sundown Trl Littleton CO United States;X-APPLE-RADIUS=500;X-TITLE=10850 Sundown Trl:geo:-105.07825,39.453095
END:VEVENT
BEGIN:VEVENT
DTSTART;TZID=America/Denver:20260811T163000
DTEND;TZID=America/Denver:20260811T183000
DTSTAMP:20260421T033604
CREATED:20251218T044917Z
LAST-MODIFIED:20251229T232222Z
UID:10000156-1786465800-1786473000@co-wa.org
SUMMARY:Networking Happy Hour
DESCRIPTION:
URL:https://co-wa.org/event/networking-happy-hour-2/
LOCATION:TBD
CATEGORIES:COWA Events
END:VEVENT
BEGIN:VEVENT
DTSTART;TZID=America/Denver:20260909T163000
DTEND;TZID=America/Denver:20260910T183000
DTSTAMP:20260421T033604
CREATED:20251218T044952Z
LAST-MODIFIED:20251229T232928Z
UID:10000157-1788971400-1789065000@co-wa.org
SUMMARY:Clay Shoot Networking Happy Hour
DESCRIPTION:
URL:https://co-wa.org/event/clay-shoot-networking-happy-hour-and-tournament/
LOCATION:TBD
CATEGORIES:COWA Events
END:VEVENT
BEGIN:VEVENT
DTSTART;TZID=America/Denver:20260910T070000
DTEND;TZID=America/Denver:20260911T140000
DTSTAMP:20260421T033604
CREATED:20251229T233029Z
LAST-MODIFIED:20251229T233029Z
UID:10000162-1789023600-1789135200@co-wa.org
SUMMARY:Clay Shoot Tournament
DESCRIPTION:
URL:https://co-wa.org/event/clay-shoot-tournament/
LOCATION:Kiowa Creek Sporting Club\, Bennett\, CO
CATEGORIES:COWA Events
END:VEVENT
BEGIN:VEVENT
DTSTART;VALUE=DATE:20260915
DTEND;VALUE=DATE:20260917
DTSTAMP:20260421T033604
CREATED:20251218T044743Z
LAST-MODIFIED:20260320T040035Z
UID:10000152-1789430400-1789603199@co-wa.org
SUMMARY:Wireless West Las Vegas
DESCRIPTION:
URL:https://co-wa.org/event/wireless-west-las-vegas/
LOCATION:The Durango Hotel & Casino\, 6915 S Durango Dr\, Las Vegas\, NV\, 89113\, United States
CATEGORIES:Other Events
END:VEVENT
BEGIN:VEVENT
DTSTART;TZID=America/Denver:20261021T130000
DTEND;TZID=America/Denver:20261021T160000
DTSTAMP:20260421T033604
CREATED:20251218T045040Z
LAST-MODIFIED:20251229T233144Z
UID:10000158-1792587600-1792598400@co-wa.org
SUMMARY:NIST/FirstNet Lab Tour
DESCRIPTION:
URL:https://co-wa.org/event/nist-firstnet-lab-tour/
END:VEVENT
BEGIN:VEVENT
DTSTART;TZID=America/Denver:20261021T163000
DTEND;TZID=America/Denver:20261021T180000
DTSTAMP:20260421T033604
CREATED:20251229T233324Z
LAST-MODIFIED:20251229T233324Z
UID:10000163-1792600200-1792605600@co-wa.org
SUMMARY:Networking Happy Hour
DESCRIPTION:
URL:https://co-wa.org/event/networking-happy-hour-3/
LOCATION:TBD
CATEGORIES:COWA Events
END:VEVENT
BEGIN:VEVENT
DTSTART;TZID=America/Denver:20261119T163000
DTEND;TZID=America/Denver:20261119T183000
DTSTAMP:20260421T033604
CREATED:20251229T233303Z
LAST-MODIFIED:20251229T233303Z
UID:10000164-1795105800-1795113000@co-wa.org
SUMMARY:Networking Happy Hour and Food Drive
DESCRIPTION:
URL:https://co-wa.org/event/networking-happy-hour-and-food-drive-2/
LOCATION:TBD
CATEGORIES:COWA Events
END:VEVENT
END:VCALENDAR